BEGIN:VCALENDAR
VERSION:2.0
PRODID:-//Mandyben Formation - ECPv5.14.0.1//NONSGML v1.0//EN
CALSCALE:GREGORIAN
METHOD:PUBLISH
X-WR-CALNAME:Mandyben Formation
X-ORIGINAL-URL:https://www.mandyben-formation.com
X-WR-CALDESC:évènements pour Mandyben Formation
REFRESH-INTERVAL;VALUE=DURATION:PT1H
X-Robots-Tag:noindex
X-PUBLISHED-TTL:PT1H
BEGIN:VTIMEZONE
TZID:Europe/Paris
BEGIN:DAYLIGHT
TZOFFSETFROM:+0100
TZOFFSETTO:+0200
TZNAME:CEST
DTSTART:20220327T010000
END:DAYLIGHT
BEGIN:STANDARD
TZOFFSETFROM:+0200
TZOFFSETTO:+0100
TZNAME:CET
DTSTART:20221030T010000
END:STANDARD
END:VTIMEZONE
BEGIN:VEVENT
DTSTART;TZID=Europe/Paris:20221114T090000
DTEND;TZID=Europe/Paris:20221114T170000
DTSTAMP:20260424T110552
CREATED:20211005T203446Z
LAST-MODIFIED:20250805T122811Z
UID:3164-1668416400-1668445200@www.mandyben-formation.com
SUMMARY:Formation Rédiger des contenus Web (Brand Content)
DESCRIPTION:
URL:https://www.mandyben-formation.com/formation/formation-rediger-des-contenus-web/2022-11-14
LOCATION:Mandyben Formation
CATEGORIES:Les formations en webmarketing et gestion de projet web
ATTACH;FMTTYPE=image/jpeg:https://www.mandyben-formation.com/wp-content/uploads/2021/09/bandeau4.jpg
END:VEVENT
BEGIN:VEVENT
DTSTART;TZID=Europe/Paris:20221114T090000
DTEND;TZID=Europe/Paris:20221114T170000
DTSTAMP:20260424T110552
CREATED:20230130T171450Z
LAST-MODIFIED:20231210T212413Z
UID:22200-1668416400-1668445200@www.mandyben-formation.com
SUMMARY:Formation Apprendre le Copywriting
DESCRIPTION:
URL:https://www.mandyben-formation.com/formation-copywriting.html
LOCATION:Mandyben Formation
CATEGORIES:Les formations en webmarketing et gestion de projet web
ATTACH;FMTTYPE=image/jpeg:https://www.mandyben-formation.com/wp-content/uploads/2023/01/copywriting.jpg
END:VEVENT
BEGIN:VEVENT
DTSTART;TZID=Europe/Paris:20221114T090000
DTEND;TZID=Europe/Paris:20221114T170000
DTSTAMP:20260424T110552
CREATED:20251110T092941Z
LAST-MODIFIED:20251117T101214Z
UID:95313-1668416400-1668445200@www.mandyben-formation.com
SUMMARY:Formation Devenir Rédacteur Web Freelance & Stratège de Contenus
DESCRIPTION:
URL:https://www.mandyben-formation.com/formation/formation-devenir-redacteur-web-freelance-stratege-de-contenus/2022-11-14
LOCATION:Mandyben Formation
CATEGORIES:Les formations en webmarketing et gestion de projet web
ATTACH;FMTTYPE=image/jpeg:https://www.mandyben-formation.com/wp-content/uploads/2025/11/formation-redacteur-web-freelance.jpeg
END:VEVENT
END:VCALENDAR